BEGIN:VCALENDAR
VERSION:2.0
CALSCALE:GREGORIAN
PRODID:-//MyApp//Calendar 1.0//EN
BEGIN:VEVENT
METHOD:PUBLISH
UID:65813@regionalniportaly.cz
DTSTAMP:20260423T114615Z
DTSTART;VALUE=DATE:20260621
DTEND;VALUE=DATE:20260622
SUMMARY:Mimořádné komentované prohlídky parku a zámku Lázeň
DESCRIPTION:Komentované prohlídky parku a zámku Lázeň u Chudenic. Ponořte se do světa před první světovou válkou: objeví se před Vámi hrabě Evžen II. Czernin (1851–1925) a hraběnka Františka (1876–1926). Povyprávějí Vám něco&nbsp\; ze svého života a provedou Vás svým parkem\, zámkem a pozvou Vás k tanci. Prohlídky se konají 21. 6. 2026&nbsp\; v 15.00 a v 17.00 hodin. Předprodej vstupenek je možný pouze přes SMSticket. Kapacita prohlídek omezena! Jednotné vstupné pro všechny.&nbsp\;
LOCATION:Chudenice
END:VEVENT
END:VCALENDAR