BEGIN:VCALENDAR
VERSION:2.0
CALSCALE:GREGORIAN
PRODID:-//MyApp//Calendar 1.0//EN
BEGIN:VEVENT
METHOD:PUBLISH
UID:65681@regionalniportaly.cz
DTSTAMP:20260423T081327Z
DTSTART;VALUE=DATE:20261023
DTEND;VALUE=DATE:20261024
SUMMARY:Travesti show Divoké kočky v KD Nýřany
DESCRIPTION:Travesti skupina Divoké kočky z Ostravy přijíždí se svým novým programem do kulturního domu&nbsp\;Nýřany\, kde vystoupí 23.10.2026&nbsp\;v 19:00 pro své věrné publikum a diváky ze širokého okolí.Skupina Divoké kočky do západních Čech jezdí od roku 2010 a pravidelně vystupuje v okolí Plzně.Celovečerní&nbsp\;zábavný program&nbsp\;je plný nezapomenutelných legračních scének\, písniček\, známých zpěvaček\, krásných kostýmů\, situačního humoru\,&nbsp\;smíchu a je vhodný jak pro ženské tak pánské publikum. Jejich vystoupení se těší stálé větší oblibě a tak si každý divák přijde na své. Přijdte se sami přesvědčit\, že na travesti představení není nic špatného a v podání ostravských umělců se budete určitě dobře bavit.Divoké kočky v Nýřanech&nbsp\;již&nbsp\;několikrát učinkovali&nbsp\;se svým celovečerním programem\, a proto se těší opět na úžasné místní publikum\, atmosféru a skvělý&nbsp\;večer.Na závěr programu Vám členové souboru ukážou svou pravou tvář.
LOCATION:Nýřany
END:VEVENT
END:VCALENDAR