BEGIN:VCALENDAR
VERSION:2.0
CALSCALE:GREGORIAN
PRODID:-//MyApp//Calendar 1.0//EN
BEGIN:VEVENT
METHOD:PUBLISH
UID:64880@regionalniportaly.cz
DTSTAMP:20260424T123514Z
DTSTART;VALUE=DATE:20260403
DTEND;VALUE=DATE:20260404
SUMMARY:THE SHOWER aneb velikonoční rock "n" roll night live
DESCRIPTION:VELIKONOČNÍ ROCK’N’ROLL NOC V MC PANTEON Zapomeň na klidné svátky… letos bude Velikonoční pátek pořádně divokej!MC Panteon se promění v rozjetý rock’n’rollový parket\, kde se nebude sedět\, ale tančit\, zpívat a žít naplno!LIVE: THE SHOWERKapela\, která má rock’n’roll v krvi a na pódiu to umí rozbalit tak\, že tě nenechá v klidu ani minutu. Jejich energická show\, poctivý zvuk a nadšení pro věc z nich dělají jistotu skvělé zábavy. A pozor – nejsou to žádní nováčci!Jejich kmotrem při křtu CD byla legenda českého rock’n’rollu Pavel Sedláček\, se kterým si kapela měla tu čest i několikrát zahrát. A to už je pořádná známka kvality!Těšit se můžeš na nesmrtelné rock’n’rollové pecky\, které rozproudí krev v žilách a dostanou na parket úplně každého – ať už jsi tanečník\, nebo jen milovník skvělé muziky.Velikonoční atmosféra trochu jinak – místo koledy pořádná hudební nálož\, místo vajíček roztočený parket a místo pomlázky večer\, na který se nezapomíná!Velikonoční pátekStart: 20:00Předprodej: SMSTICKETTak vezmi partu\, nalaď se na vlnu rock’n’rollu a doraz si užít noc\, která tě zvedne ze židle a nepustí až do posledního tónu!Tohle nebude jen večírek. Tohle bude jízda!
LOCATION:Konstantinovy Lázně
END:VEVENT
END:VCALENDAR