BEGIN:VCALENDAR
VERSION:2.0
CALSCALE:GREGORIAN
PRODID:-//MyApp//Calendar 1.0//EN
BEGIN:VEVENT
METHOD:PUBLISH
UID:64719@regionalniportaly.cz
DTSTAMP:20260420T162223Z
DTSTART;VALUE=DATE:20260421
DTEND;VALUE=DATE:20260422
SUMMARY:Mozkohrátky
DESCRIPTION:
LOCATION:Dobřany
END:VEVENT
END:VCALENDAR