BEGIN:VCALENDAR
VERSION:2.0
CALSCALE:GREGORIAN
PRODID:-//MyApp//Calendar 1.0//EN
BEGIN:VEVENT
METHOD:PUBLISH
UID:63575@regionalniportaly.cz
DTSTAMP:20260423T104248Z
DTSTART;VALUE=DATE:20260704
DTEND;VALUE=DATE:20260705
SUMMARY:Revival Fest 2026
DESCRIPTION:REVIVAL FEST 2026XXIII. ročníkKonstantinovy LázněDámy a pánové\, rockeři a tanečníci\, připravte se na další legendární mejdan! Druhá nejstarší akce v novodobých Konstantinkách\, REVIVAL FEST\, slaví v roce 2026 své dvacáté třetí narozeniny. Z malého festíku se stala jedna z největších a nejnavštěvovanějších akcí v širokém okolí\, a letos to bude opět jízda\, jakou si zasloužíte!Na open-air scéně u kulturního domu vás čeká pecková sestava kapel\, která rozhýbe každou nohu a rozproudí krev v žilách!Mrkněte na line-up a připravte si hlasivky – bude se zpívat\, tančit a pařit až do noci!A tady je lajna 2026:14:30 – 15:40 Deep Purple South Bohemia revivalPoctivá jižanská jízda plná varhanních sól\, kytarových soubojů a energie\, která vám rozvibruje i lavičky v zadní řadě!16:10 – 17:20 Nazsong tribute to NazarethTvrdé riffy\, chraplavý vokál a rocková nostalgie\, která voní po whisky a pořádném koncertním kotli!17:50 – 19:00 Uriah Heep revival BrnoMelodický hard rock s vícehlasy\, které vás vynesou až do rockového nebe – a zpátky na přídavek!19:40 – 21:00 Joe Cocker ForeverSoulový nářez plný emocí\, chrapláku a legendárních hitů\, u kterých se zpívá od prvního do posledního refrénu!21:30 – 23:00 Czech Floyd Pink Floyd tributeVelkolepá hudební i světelná show\, která vás vezme na psychedelickou výpravu tam\, kde čas plyne v rytmu „Shine On“!&nbsp\;Prvních 50 vstupenek za sníženou cenu\, na místě za 500\,- Kč
LOCATION:Konstantinovy Lázně
END:VEVENT
END:VCALENDAR