BEGIN:VCALENDAR
VERSION:2.0
CALSCALE:GREGORIAN
PRODID:-//MyApp//Calendar 1.0//EN
BEGIN:VEVENT
METHOD:PUBLISH
UID:62162@regionalniportaly.cz
DTSTAMP:20260423T090338Z
DTSTART;VALUE=DATE:20260425
DTEND;VALUE=DATE:20260426
SUMMARY:ŠVIHADLO - křest CD v Konstantinkách
DESCRIPTION:&nbsp\;Na vědomost se dává – a tentokrát opravdu s radostí!Držitel ceny Anděl v kategorii Reggae &amp\; Ska z roku 2006\, legendární kapela Švihadlo\, letos nese svoji kůži na trh s novým řadovým albem. Ano\, čtete správně – na jaře 2026 vychází deska „Něco se láme“&nbsp\;(křest 5.3. v Rock Café Praha) a my u toho rozhodně nechceme chybět!Švihadlo už 43 let houpá Čechy v reggae rytmech a právem patří mezi průkopníky tohoto žánru u nás. Na klubových pódiích i festivalových loukách je jako doma – a publikum si získává jak nesmrtelnými klasikami (Zelený list\, Po tobě toužím\, Na Jamajce půl srdce mám)\, tak i čerstvými kousky (Stíny\, Laj laj laj\, Bez oken)\, které už teď napovídají\, kam se kapela posouvá.Album „Něco se láme“ přináší chytlavé reggae rytmy\, hravé aranže a české texty\, které mají co říct. Autorem hudby i textů je Petr Šturma a o moderní\, současný zvuk se postaral producent Mr. Cocoman (Adam Lanči). Výsledek? Nejspíš nejpropracovanější\, nejmodernější a nejodvážnější deska v historii Švihadla – a možná i českého reggae vůbec. Rencenze hudebních kritiků toto album hodnotí hodně kladně.&nbsp\;Koncert v Konstantinových Lázních bude navíc speciálním „venkovským“ křestem alba – takovým tím\, kde je vše blíž k lidem\, trávě pod nohama a pohodě v srdci.Tak dorazte\, nechte se unést rytmem\, zazpívejte si refrény\, které vám zůstanou v hlavě\, a buďte u toho\, když se něco láme – ale jen v tom nejlepším slova smyslu.Reggae forever. One love. Švihadlo live.&nbsp\;Vstupné na místě(bude-li co nabídnout): 330\,- Kč
LOCATION:Konstantinovy Lázně
END:VEVENT
END:VCALENDAR