BEGIN:VCALENDAR
VERSION:2.0
CALSCALE:GREGORIAN
PRODID:-//MyApp//Calendar 1.0//EN
BEGIN:VEVENT
METHOD:PUBLISH
UID:61860@regionalniportaly.cz
DTSTAMP:20260424T124732Z
DTSTART;VALUE=DATE:20260418
DTEND;VALUE=DATE:20260419
SUMMARY:VLTAVA v MC Panteon
DESCRIPTION:Vltava patří k těm kapelám\, které si nelze splést s žádnou jinou. Už roky patří mezi stálice klubových i festivalových pódií a jejich hudba si s lehkostí nachází cestu k posluchačům napříč generacemi. Písně plné obrazů\, příběhů a nakažlivé energie vás vtáhnou – a nepustí.Aktuální koncertní program roku 2026 staví na oblíbených skladbách ze slavného alba "Marx Engels Beatles" u příležitosti jeho čerstvého vydání na LP.Jedná se o unikátní příležitost zažít energii konce 90. let a slyšet živě písně\, které v klasickém kapelovém playlistu řadu let chyběly."Přeji si\, aby naše písničková zpráva vždy obsahovala radost\, aby byla pozitivní a pro zájemce také hluboká. Všechny naše písně mají svůj odraz v životě\, v zážitcích a pocitech\, které jsou mnoha lidem společné. Na koncertech to zjišťujeme stále znovu." Robert NebřenskýPřijďte si poslechnout hudbu\, která umí být hravá\, chytrá i dojemná. Hudbu\, která má co říct – a říká to s radostí.&nbsp\;Sestava:Robert Nebřenský - zpěv\, kytaryFrantišek Svačina - klávesy\, akordeonTomáš Uhlík - baskytaraOndřej Klímek - dechové nástrojeOndřej Pomajsl – bicí
LOCATION:Konstantinovy Lázně
END:VEVENT
END:VCALENDAR