BEGIN:VCALENDAR
VERSION:2.0
CALSCALE:GREGORIAN
PRODID:-//MyApp//Calendar 1.0//EN
BEGIN:VEVENT
METHOD:PUBLISH
UID:61855@regionalniportaly.cz
DTSTAMP:20260424T114618Z
DTSTART;VALUE=DATE:20260403
DTEND;VALUE=DATE:20260404
SUMMARY:Michal Hrůza & Kapela Hrůzy / Velikonoční koncert
DESCRIPTION:MICHAL HRŮZA &amp\; KAPELA HRŮZY | Konstantinovy LázněZapomeňte na pomlázky\, beránky a ticho svátečního večera. Velikonoční pátek v&nbsp\;Konstantinkách letos dostane úplně jiný rytmus! Přijíždí Michal Hrůza &amp\; Kapela Hrůzy – a s nimi pořádná dávka hitů\, které již dávno zlidověly\, silné energie a ještě silnějších melodií.Michal Hrůza je autorem písní\, které se vám nenápadně dostanou pod kůži… a pak už tam zůstanou. Zakázané uvolnění\, Budu ti vyprávět\, 1+1\, Duše do vesmíru\, Pro Emu – hity\, které si broukáte cestou z práce\, na výletě i doma v kuchyni. Jeho koncerty jsou upřímné\, lidské\, s humorem a s tím zvláštním kouzlem\, kdy máte pocit\, že jste mezi přáteli.Kapela Hrůzy dodává Hrůzovým skladbám šťávu\, energii a koncertní tah. Společně tvoří sehraný tým\, který sází na živý zvuk\, skvělý kontakt s publikem a poctivý hudební zážitek. Každý koncert je trochu jiný – plný spontánnosti\, humoru i momentů\, kdy si s kapelou zpívá celý sál. Přesně tak\, jak to má být.Velikonoční koncert v lázních? Ideální kombinace. Jaro ve vzduchu\, sváteční večer\, skvělá muzika a pocit\, že tenhle pátek stojí za to prožít jinak než obvykle.Dopřejte si Velikonoce s hudbou\, která má duši – a klidně si u toho zazpívejte.
LOCATION:Konstantinovy Lázně
END:VEVENT
END:VCALENDAR