BEGIN:VCALENDAR
VERSION:2.0
CALSCALE:GREGORIAN
PRODID:-//MyApp//Calendar 1.0//EN
BEGIN:VEVENT
METHOD:PUBLISH
UID:61686@regionalniportaly.cz
DTSTAMP:20260424T114822Z
DTSTART;VALUE=DATE:20260206
DTEND;VALUE=DATE:20260207
SUMMARY:Anatol Svahilec & Dr. Filipitch aneb slam poetry vs. kytara
DESCRIPTION:Dva hlasy. Jeden mikrofon. A energie\, která se nevejde do žádné škatulky.Anatol Svahilec × Dr. Filipitch vyrážejí na společnou jízdu\, kde se slam poetry míchá s humorem\, hudbou a lehce absurdním pohledem na svět.Čekej slovní freestyle\, grimasy\, co by si zasloužily vlastní emoji\, a ukázky z čerstvých textů – Svahilec s almanachem „Nemel\, a mluv!“\, Filipitch s mikropovídkami z „Poločasu odpadu“. A aby toho nebylo málo\, Filipitch přihodí i autorské písničky jako Filip Koryta. Ano\, bude i kytara. Ano\, bude to fungovat.Tohle není tichá poezie do čítárny.Tohle je slovo\, co skáče\, hudba\, co reaguje\, a humor\, co trefuje přesně tam\, kam má.Klub Panteon v Konstantinkách tomu dodá ideální vibe – blízko k pódiu\, blízko k performerům\, žádná bariéra\, žádná nuda. Prostě večer\, kdy se můžeš smát\, kývat hlavou a říct si: jo\, tohle mě bavilo.Doraž. Poslechni. Vypni hlavu.A nech slova\, ať to odmakají za tebe.
LOCATION:Konstantinovy Lázně
END:VEVENT
END:VCALENDAR