BEGIN:VCALENDAR
VERSION:2.0
CALSCALE:GREGORIAN
PRODID:-//MyApp//Calendar 1.0//EN
BEGIN:VEVENT
METHOD:PUBLISH
UID:60779@regionalniportaly.cz
DTSTAMP:20260424T114157Z
DTSTART;VALUE=DATE:20260131
DTEND;VALUE=DATE:20260201
SUMMARY:Ples obce Konstantinovy Lázně 2026
DESCRIPTION:XXIII. PLES OBCE KONSTANTINOVY LÁZNĚZima? Nevadí! Rozehřejeme ji tancem\, smíchem a skvělou muzikou!Zveme vás na tradiční ples obce\, jediný svého druhu široko daleko.Večerem vás provede lázeňský patron Petr Jančařík\, který svým humorem roztančí vaší bránici.Premiérově u nás zahraje špičková pražská profi partička PartyLeaders – a věřte že ti umí rozhýbat úplně každého!Těšte se na krásný mix tanců:klasika – waltz\, valčík\, polka\, slow-fox\, blues\, latina – rumba\, cha-cha\, samba\, jivea samozřejmě i moderní pecky\, aby si na parketu mohl zařádit úplně každý. I ten\, kdo místo do tanečních chodil za (taneční) školu.Nebude chybět fotokoutek\, slosovatelné vstupenky (pokud je neztratíte)…a spousta dalších překvapení\, díky nimž vaše srdce bude plesat ještě týden po plese!
LOCATION:Konstantinovy Lázně
END:VEVENT
END:VCALENDAR