BEGIN:VCALENDAR
VERSION:2.0
CALSCALE:GREGORIAN
PRODID:-//MyApp//Calendar 1.0//EN
BEGIN:VEVENT
METHOD:PUBLISH
UID:59816@regionalniportaly.cz
DTSTAMP:20260424T114228Z
DTSTART;VALUE=DATE:20260227
DTEND;VALUE=DATE:20260228
SUMMARY:Divadlo VIZITA Jaroslava Duška
DESCRIPTION:Improvizované divadlo Jaroslava Duška uvádí:VIZITA – Konstantinovy bázněZapomeňte na scénář. Zapomeňte na jistoty.A připravte se na večer\, kdy se všechno může stát – a taky stane!Na scéně se zjeví Jaroslav Dušek se svými věrnými kumpány – Pjérem la Šé’zem\, Zdeňkem Konopáskem a Viktorem Zborníkem – a společně roztočí kolotoč čiré improvizace\, kde se místo lístků platí smíchem\, údivem a kapkou zdravého šílenství.Divadlo Vizita existuje už od roku 1981 – tedy déle než většina internetů – a přesto (nebo právě proto) nikdy nehrálo totéž dvakrát. Každý večer je originál\, premiéra\, spontánní výbuch tvořivosti\, který vzniká přímo před očima diváků.Jak říká sám Jaroslav Dušek:„Názvy vymýšlíme jen proto\, aby bylo co napsat do programu a lidi věděli\, že nehrajeme pořád to samé.“A že nehrají! Během večera můžete spatřit Jaroslava\, jak se promění v ježka filozofa\, rozhněvaný topinambur nebo fraktál vesmíru v lidské podobě – a možná se v něm poznáte. Pjér rozvine hudební motiv\, který zní jako rozhovor mezi andělem a tramvají\, a Zdeněk s Viktorem k tomu přidají rytmus\, který by probudil i sochu sv. Konstantina.Konstantinovy bázně Název sám napovídá\, že půjde o večer plný kouzelných podivností\, smíchu i existenciálních otázek\, které si položíte jen tehdy\, když se opravdu bavíte.Možná zjistíte\, že bázeň je krásná věc – zvlášť když se jí smějete s ostatními.Tady prostě nesmíte chybět!&nbsp\;Přijďte se nechat vtáhnout do světa\, kde logika má volno a fantazie jede na plný plyn.Protože až se vás někdo zeptá\, co jste dělali ten večer\, budete moct říct:„Byl(a) jsem u toho\, když se zrodil okamžik – a Dušek mu dal jméno.“
LOCATION:Konstantinovy Lázně
END:VEVENT
END:VCALENDAR