BEGIN:VCALENDAR
VERSION:2.0
CALSCALE:GREGORIAN
PRODID:-//MyApp//Calendar 1.0//EN
BEGIN:VEVENT
METHOD:PUBLISH
UID:59763@regionalniportaly.cz
DTSTAMP:20260424T114318Z
DTSTART;VALUE=DATE:20260213
DTEND;VALUE=DATE:20260214
SUMMARY:DARRELL STANDING
DESCRIPTION:Po dlouhých pětadvaceti letech se na scénu vrací plzeňská legenda Darrell Standing!Kapela\, která v devadesátkách brázdila pódia od zaprášených klubů po velké festivaly\, znovu ožívá – a to v nové\, vyzrálé podobě.Tentokrát odhazují těžký rockový kabát a vracejí se k podstatě své hudební barevnosti – k jemně nakopnutému poloakustickému bluesrocku s vůní pub rocku a folkovým šarmem. Tahle kombinace dává vyniknout melodiím i osobitým textům zpěváka\, spisovatele Kamila Pešťáka\, které mají duši i příběh.Z původní sestavy se můžete těšit na kytarové dvojče Martina Tejmla a Michala Světlíka a charismatického saxofonistu Jiřího Ptáčka. Nový vítr do plachet fouká Ivan Vala (basa) a Michal Diestler (cajon) – a nutno říct\, že do rozjetého vlaku naskočili s elegancí a energií\, jako by nikdy neslezli z pódia.Darrell Standing dnes zní autenticky\, vyzrále a s radostí\, která se přenáší do každého tónu. Je to návrat\, který má smysl – poctivá muzika bez pózy\, zato srdcem naplno.Tohle stojí bezpochyby za návštěvu!
LOCATION:Konstantinovy Lázně
END:VEVENT
END:VCALENDAR