BEGIN:VCALENDAR
VERSION:2.0
CALSCALE:GREGORIAN
PRODID:-//MyApp//Calendar 1.0//EN
BEGIN:VEVENT
METHOD:PUBLISH
UID:59761@regionalniportaly.cz
DTSTAMP:20260424T114608Z
DTSTART;VALUE=DATE:20260314
DTEND;VALUE=DATE:20260315
SUMMARY:JANA URIEL KRATOCHVÍLOVÁ
DESCRIPTION:JANA URIEL KRATOCHVÍLOVÁ &amp\; Illuminati.caKoncert\, který rozvibruje tělo i duši.Připoutejte se – čeká vás hudební jízda\, která nemá brzdy ani hranice.Na pódium přichází Jana Uriel Kratochvílová – bytost\, kterou nelze zařadit. Zpěvačka\, performerka\, šamanka\, mimozemská bohyně rocku… říkejte jí\, jak chcete. Jedno je jisté: její koncert není jen vystoupení – je to zážitek\, transformace\, rituál.Spolu s kapelou Illuminati.ca – partou brilantních muzikantů\, kteří dokážou v jediném večeru smíchat art-rock\, psychedelii\, funky groove i mystiku – vás vtáhne do světa\, kde světlo i tma tančí v jednom rytmu.Za bicí usedá legendární Jiří “George” Hrubeš (Pražský výběr)\, na baskytaru hraje Jan “Poky” Pokorný a kytary brousí Vladimir Zotov a celý ten hudební vesmír drží pohromadě vibrace\, které se dají cítit až pod kůží.Proč u toho být?Protože Jana Uriel není jen zpěvačka – je živel\, který mění energii prostoru.Protože Illuminati.ca hrají tak\, že každá skladba je výbuch barev\, tónů a emocí.Protože nikdy nevíte\, co se stane – a právě to z toho dělá jedinečný večer.Protože pokud máte rádi opravdovost\, odvahu a trochu šílenství v tom nejlepším smyslu\, tohle je koncert pro vás.Přijďte se nechat unést.Přijďte tančit\, přemýšlet\, smát se i zírat s otevřenou pusou.Jana Uriel Kratochvílová &amp\; Illuminati.ca vám ukážou\, že hudba může být bránou k jinému vnímání světa – a že to není fráze.Připravte se na energii\, kterou nelze zachytit slovy – jen prožít.
LOCATION:Konstantinovy Lázně
END:VEVENT
END:VCALENDAR