BEGIN:VCALENDAR
VERSION:2.0
CALSCALE:GREGORIAN
PRODID:-//MyApp//Calendar 1.0//EN
BEGIN:VEVENT
METHOD:PUBLISH
UID:59759@regionalniportaly.cz
DTSTAMP:20260424T124752Z
DTSTART;VALUE=DATE:20260214
DTEND;VALUE=DATE:20260215
SUMMARY:N.O.P. v MC Panteon
DESCRIPTION:Tři osobnosti a tři hudební světy na jednom pódiu.Norbi Kovács je fenomenální kytarista spolupracující s Ivanem Hlasem\, Radůzou\, Petrem Skoumalem či Máriem Bihárim.Jaroslav Olin Nejezchleba je známý z legendární skupiny Marsyas\, později z Etc…\, Čunderground\, Blues Session a Tria Ivana Hlase.A Pavel Fischer je špičkový klasický houslista\, sólista a skladatel. Jeho mimořádný zájem o hudbu jiných žánrů vyústil např. v mnoholetou spolupráci s Ivou Bittovou nebo k založení cross-overové skupiny „Camael“ či tria „Bardolino“.Toto skvělé hudební trio doplní neméně úžasná zpěvačka\, textařka\, skladatelka\, herečka a moderátorka Jana Infeldová (ex-Jananas).V jejich hudbě se mísí rocková razance\, chytré texty a nakažlivá energie\, která na pódiu roste s každým refrénem. NOP si jde svojí cestou - bez přetvářky\, s radostí z hraní a poctivým muzikantským tahem na branku.Jejich koncerty mají pověst hudebního dobrodružství\, kde se střídá křehkost s nespoutaností\, melodie s rytmem a emoce s humorem. A tentokrát to bude ještě silnější - speciálním hostem večera bude skvělá Jana Infeldová\, známá z kapely Jananas. Její charismatický hlas\, jemná ironie a přirozený půvab vnesou do večera další rozměr a krásně prolnou s energií NOPu.Těšte se na večer plný hudby\, nálad\, příběhů a skvělých muzikantů\, kteří hrají tak\, jak cítí - pro radost\, pro lidi\, pro chvíli\, která se nebude opakovat.Vstupenky v předprodeji na smsticket.cz&nbsp\; &nbsp\;/ na místě 370\,- kč
LOCATION:Konstantinovy Lázně
END:VEVENT
END:VCALENDAR