BEGIN:VCALENDAR
VERSION:2.0
CALSCALE:GREGORIAN
PRODID:-//MyApp//Calendar 1.0//EN
BEGIN:VEVENT
METHOD:PUBLISH
UID:59756@regionalniportaly.cz
DTSTAMP:20260424T124852Z
DTSTART;VALUE=DATE:20260117
DTEND;VALUE=DATE:20260118
SUMMARY:ZNOUZECTNOST v MC Panteon
DESCRIPTION:Znouzectnost – to není jen kapela\, to je hudební fenomén\, který se narodil v Plzni už v roce 1986 a od té doby neztratil šťávu ani smysl pro nadhled. Punkové kořeny? Ano! Ale nebojte\, nezůstalo jen u nich – ZNC umí servírovat rockový nářez\, melodické popové perly i folkové balady\, které chytnou za srdce i nejzarytějšího cynika.Na hudební scéně působí přesně čtyři dekády\, a přesto si zachovali to nejcennější – nezávislost a radost z hraní. Žádné diktáty labelů\, žádné termíny\, jen poctivá muzika\, co vzniká z hloubi muzikantské duše. Někdy melancholická\, jindy rozverně punková – ale vždycky upřímná.A co nás těší nejvíc? Že se těmto legendám v Konstantinkách líbí tak moc\, že se k nám s radostí vracejí!Přijďte i vy\, bude to jízda plná energie\, vzpomínek a skvělé muziky!Předprodej: smsticket.cz&nbsp\;
LOCATION:Konstantinovy Lázně
END:VEVENT
END:VCALENDAR