BEGIN:VCALENDAR
VERSION:2.0
CALSCALE:GREGORIAN
PRODID:-//MyApp//Calendar 1.0//EN
BEGIN:VEVENT
METHOD:PUBLISH
UID:59430@regionalniportaly.cz
DTSTAMP:20260424T152720Z
DTSTART;VALUE=DATE:20251206
DTEND;VALUE=DATE:20251207
SUMMARY:Mikulášská zábava – Kabát Revival Plzeň & Moby Dick Rock
DESCRIPTION:🎅 Mikulášská zábava\, jak má být!Připrav se na pořádnou dávku českého rocku!Na pódiu to roztočí:🔥 Kabát Revival Plzeň – nejvěrnější pocta legendární české skupině KABÁT🔥 Moby Dick Rock – poctivý hard &amp\; classic rock\, který tě zvedne ze židle!Čeká tě večer plný hitů\, silných riffů\, skvělé atmosféry a ledově vychlazeného piva 🍺📅 Kdy: sobota 6. prosince 2025📍 Kde: Kulturní sál Postřekov🕘 Start: 19:00&nbsp\;Vem kamarády\, obleč mikulášskou čepici (nebo rohy 😈) a přijď si to užít!Rocková Mikulášská\, na kterou jen tak nezapomeneš! 🤘🎤 KapelyKabát Revival Plzeň (CZ)🌐 Oficiální webMoby Dick (CZ)🎵 Oficiální stránky
LOCATION:Postřekov
END:VEVENT
END:VCALENDAR