BEGIN:VCALENDAR
VERSION:2.0
CALSCALE:GREGORIAN
PRODID:-//MyApp//Calendar 1.0//EN
BEGIN:VEVENT
METHOD:PUBLISH
UID:56974@regionalniportaly.cz
DTSTAMP:20260424T113516Z
DTSTART;VALUE=DATE:20251106
DTEND;VALUE=DATE:20251107
SUMMARY:Dobré ráno s Findou
DESCRIPTION:Dobré ráno s FindouNekorektní komedie o hyperkorektnosti\, v níž autor a režisér Jan Svěrák trefně komentuje témata dnešní společnosti\, a přitom otvírá dilemata\, která rozčeří názory diváků.Vše začíná brzy zrána v maskérně televizního studia\, kam postupně přicházejí pozvaní i nezvaní hosté. Zapálená environmentalistka z korporátu\, upovídaný homosexuál vtipkující o své orientaci\, vědec\, který rozumí víc rostlinám než současným lidem\, moderátorka umně klouzající po povrchu\, romský raper a umělá inteligence v podobě svůdné robotky Findy. To je nálož\, která odpálí nudný každodenní pořad a vtáhne nás do spirály událostí\, nedorozumění a poznání. Hosté s sebou přinášejí názory\, kolem nichž dnes chodíme raději po špičkách\, a společně tak vytvářejí mozaiku dnešní doby. Moderátorka klade otázky\, na něž vlastně nechce slyšet odpovědi\, protože nevěří v trpělivost ani inteligenci svých diváků. Finda\, robotka první třídy\, si ale slovo vzít nenechá a pokusí se lidstvo poučit i varovat. Můžeme jí věřit?Dobré ráno s FindouRežie: Jan Svěrák Text: Jan SvěrákHrají: Alena: Alena Doláková/Natálie Halouzková&nbsp\;&nbsp\;Nikol: Michaela Zemánková&nbsp\;Míša: Ondřej SokolHáječek: Jan Svěrák ml.LP Gauner: Marsell BendigFinda: Simona Tlustá&nbsp\;Produkce: Biograf Jan Svěrák &amp\; Divadlo Povalač &amp\; Divadlo Artefakt
LOCATION:Konstantinovy Lázně
END:VEVENT
END:VCALENDAR