BEGIN:VCALENDAR
VERSION:2.0
CALSCALE:GREGORIAN
PRODID:-//MyApp//Calendar 1.0//EN
BEGIN:VEVENT
METHOD:PUBLISH
UID:56720@regionalniportaly.cz
DTSTAMP:20260424T163056Z
DTSTART;VALUE=DATE:20251212
DTEND;VALUE=DATE:20251213
SUMMARY:Leona Machálková - Vánoční koncert
DESCRIPTION:Leona Machálková patří k nejvýraznějším osobnostem české hudební scény. Během své bohaté kariéry okouzlila tisíce diváků jak na koncertních pódiích\, tak i v největších českých muzikálech. Publikum si získala nejen svým nezaměnitelným hlasem\, ale i šarmem\, vřelostí a výjimečnou schopností předávat emoce.Zazářila v hlavních rolích úspěšných muzikálů jako Dracula\, Monte Cristo\, Hamlet\, West Side Story nebo Mamma Mia!\, kde ztvárnila nezapomenutelnou Donnu. Spolupracovala s legendami jako Karel Svoboda\, Michal David či Bohouš Josef.Její repertoár zahrnuje nejen popové a muzikálové skladby\, ale také vánoční písně\, které v jejím podání dostávají jedinečnou hloubku a něhu. Vánoční koncerty Leony Machálkové jsou každoročně vyhledávaným hudebním zážitkem – pro svou srdečnou atmosféru\, profesionální provedení i radost\, kterou přinášejí.Přijďte se na chvíli zastavit v předvánočním shonu. Vychutnejte si večer plný kouzelných tónů\, emocí a světélek. Leona vás svou hudbou vezme na cestu do míst\, kde Vánoce voní po klidu\, lásce a hudbě\, která hřeje u srdce.Udělejte si (nebo někomu blízkému) dárek v podobě výjimečného koncertu – bude to večer\, na který se nezapomíná.&nbsp\;
LOCATION:Konstantinovy Lázně
END:VEVENT
END:VCALENDAR