BEGIN:VCALENDAR
VERSION:2.0
CALSCALE:GREGORIAN
PRODID:-//MyApp//Calendar 1.0//EN
BEGIN:VEVENT
METHOD:PUBLISH
UID:56567@regionalniportaly.cz
DTSTAMP:20260424T114206Z
DTSTART;VALUE=DATE:20251225
DTEND;VALUE=DATE:20251226
SUMMARY:So Fine & Ged Maloney
DESCRIPTION:SO FINE &amp\; Ged Maloney – Vánoce\, jaké jste ještě neslyšeli! 🎶Zapomeňte na koledy z rádia a rozjeďte to stylově! Kapela SO FINE v čele s neodolatelným britským gentlemanem Gedem Maloneym přináší hudební večírek\, který by rozhýbal i sněhuláka!&nbsp\;Připravte se na pořádnou dávku rocku\, soulu\, blues i popu – vše krásně zabalené do sváteční nálady\, s mašlí z energie a špetkou anglického šarmu.&nbsp\;Tihle muzikanti umí rozezpívat sál\, roztančit punč i rozzářit oči všem\, kdo milují živou\, poctivou a radostnou muziku.Tak popadněte kamarády\, svetry s jelenem a dobrou náladu – čeká vás večer\, kde se hudba mísí s radostí\, smíchem a svátečním jiskřením.Vstupenky: SMSTICKETSO FINE &amp\; Ged Maloney – váš vánoční recept na radost\, rytmus a pořádnou dávku pohody.To nejlepší z anglo/americké hudební scény od 60 let. až po současnost.Otevřeno 19:00 | Start 20:00Pozvi kámoše\, co potřebují dostat po Štědrém dni pořádný hudební restart!SO FINE a Ged Maloney vás zvou na hudební cestu\, kterou si nesmíte nechat ujít!
LOCATION:Konstantinovy Lázně
END:VEVENT
END:VCALENDAR