BEGIN:VCALENDAR
VERSION:2.0
CALSCALE:GREGORIAN
PRODID:-//MyApp//Calendar 1.0//EN
BEGIN:VEVENT
METHOD:PUBLISH
UID:56566@regionalniportaly.cz
DTSTAMP:20260424T134424Z
DTSTART;VALUE=DATE:20251115
DTEND;VALUE=DATE:20251116
SUMMARY:TANGO
DESCRIPTION:Kapela TANGO nezastavuje – jede dál a míří vysoko!V květnu loňského roku zasáhla rockovou scénu smutná zpráva – odešel legendární zpěvák kapely TANGO\, Míra Imrich. Ale než se jeho životní cesta uzavřela\, sám rozhodl\, kdo převezme štafetu – zpěvák Zbyněk Pošmura. Jeho přáním bylo jediné: aby TANGO pokračovalo!A přesně to se děje.Rok 2025 bude pro TANGO výjimečný!Pod duchovním dohledem Míry Imricha kapela vyráží na turné k 40. výročí legendárního alba Elektrický bál!Jednou z jeho zastávek je i konstantinolázeňský hudební klub Panteon.Celé turné bude poctou Mírovi a oslavou nesmrtelné energie jeho tvorby. Sledujte novinky\, protože TANGO je zpátky na scéně – silnější než kdy dřív.Proč si tenhle koncert nesmíš nechat ujít?Bude to víc než jen koncert – bude to oslava rockové vášně\, vzpomínka na legendu a důkaz\, že TANGO jede dál! Naživo uslyšíš nesmrtelné hity\, které formovaly český rock\, a zažiješ energii\, která rozechvěje každý kousek tvého těla. Bude to večer plný emocí\, vzpomínek\, ale hlavně poctivého rock’n’rollu\, který tě nenechá stát v koutě.Tak si to nenech ujít – přijď a staň se součástí téhle rockové jízdy!
LOCATION:Konstantinovy Lázně
END:VEVENT
END:VCALENDAR