BEGIN:VCALENDAR
VERSION:2.0
CALSCALE:GREGORIAN
PRODID:-//MyApp//Calendar 1.0//EN
BEGIN:VEVENT
METHOD:PUBLISH
UID:56230@regionalniportaly.cz
DTSTAMP:20260424T124405Z
DTSTART;VALUE=DATE:20250920
DTEND;VALUE=DATE:20250921
SUMMARY:Livin Free v MC Panteon
DESCRIPTION:LIVIN FREE - Rock\, který má duši. Hudba\, která má příběh.Do Konstantinových Lázní míří kapela\, kterou byste rozhodně neměli minout – LIVIN FREE. Parta výjimečných hudebníků v čele s charismatickým zpěvákem a klávesistou Honzou Holečkem\, známým z kapel Energit\,&nbsp\;Flamengo Reunion Session či&nbsp\;&nbsp\;Luboš Andršt Blues Band..................Kapela vznikla na konci roku 2018 jako Holečkův autorský projekt. K sobě si přizval legendárního basistu Vladimíra "Gumu" Kulhánka\, a společně položili základy alba Voices from Beyond. Kapela prošla vývojem\, ale chuť hrát poctivý rock plný emocí\, bluesových kořenů a amerického feelingu zůstala.Dnešní sestava je směsí zkušenosti\, vášně a nového zvuku.Vedle Holečka ji tvoří:Jiří Rambousek – kytaraVladimír "Boryš" Secký – saxofonMichal "Kolouch" Daněk – bicíZdeněk "Wimpy" Tichota – baskytaraA není to žádné jamování v garáži – v roce 2023 nahráli v legendárním Sono Records nové album From Cradle to Coffin se speciálním hostem – bubeníkem Boba Dylana Winstonem A. Watsonem Jr.! Deska vyšla v červnu 2024 pod značkou Supraphon a je to pořádná jízda americkým jižanským rockem\, soulovou hloubkou a gospelovou naléhavostí.LIVIN FREE je víc než kapela. Je to zážitek. Hudba\, která vás obejme\, nakopne a pohltí zároveň.Klubová atmosféra\, bar\, boží kapela – zkrátka večer\, na který se bude vzpomínat.Přijďte se nadechnout svobody.Přijďte na LIVIN FREE.PS: Na místě vstupné (nebude-li vyprodáno) 350\,- Kč&nbsp\;
LOCATION:Konstantinovy Lázně
END:VEVENT
END:VCALENDAR