BEGIN:VCALENDAR
VERSION:2.0
CALSCALE:GREGORIAN
PRODID:-//MyApp//Calendar 1.0//EN
BEGIN:VEVENT
METHOD:PUBLISH
UID:55131@regionalniportaly.cz
DTSTAMP:20260424T135115Z
DTSTART;VALUE=DATE:20250801
DTEND;VALUE=DATE:20250802
SUMMARY:Českoněmecký festival vol. 2
DESCRIPTION:Podhájí - česko-bavorský festival vol. 2&nbsp\;Po úspěšném 1. ročníku jsme se rozhodli uspořádat volume 2&nbsp\;&nbsp\;Máte se na co těšit\, protože to budou pořádný&nbsp\;Potvrzené kapely z CZ:APhits - nadílka hitů\, které milujeme od Green Day\, The Offspring\, SUM 41\, Blink 182 a dalšíZakázaný Ovoce - kapela\, co je na scéně 20 let a řadí se mezi špičku v punk rocku ČR.Septic people - letos slaví 15 let a vydali singl Kastelán a v něm hrají známí český herci jako Jaroslav Plesl nebo Bára Munzarová.Potvrzené kapely z DE:Bulletproof - špičková hard-rock kapela se silnými kytarami a melodickým projevem a hlasem AC/DCReaper’s Revenge - poctivý Heavy-power metal z Německa se silnou základnouLetošní fest je multižánrový\, větší\, pestřejší a plný skvělých kapel a muziky !!! Přijedou i motorkáři od Izzyho a dle informací sám Izzy\, frontman kapely Doga a pěkně to všichni na festu odpálí.
LOCATION:Horšovský Týn
END:VEVENT
END:VCALENDAR