BEGIN:VCALENDAR
VERSION:2.0
CALSCALE:GREGORIAN
PRODID:-//MyApp//Calendar 1.0//EN
BEGIN:VEVENT
METHOD:PUBLISH
UID:54492@regionalniportaly.cz
DTSTAMP:20260424T135939Z
DTSTART;VALUE=DATE:20250802
DTEND;VALUE=DATE:20250803
SUMMARY:Lázeňská struna
DESCRIPTION:LÁZEŇSKÁ STRUNA 2025 – KONSTANTINOVY LÁZNĚ &nbsp\;- XXIII. ročníkSobota 2. srpna 2025 | Začínáme ve 14:00 | &nbsp\;Open air u KD (při dešti v KD)Přijďte se zchladit do světa country\, folku a muzikantské pohody! Do malebných Konstantinových Lázní letos dorazí samá hudební smetánka – taková sestava hvězd se na jedné scéně nevidí každý den!PAVLÍNA JÍŠOVÁ &amp\; BOHADLONejkrásnější hlas české folk scény s novým elánem a partou mistrů.Pavlína je dvojnásobnou držitelkou Porty\, bývalá členka Žalmanova spolku\, &nbsp\;Na kontě má přes 10 alb a stovky koncertů.Čas vystoupení: 14:00 h.&nbsp\;VÁCLAV KOUBEK trioNejoriginálnější písničkář s harmonikou\, herec\, spisovatel a vypravěč v jednom.Autor kultovních alb jako Šaty šupáka nebo Čekání na tmu.Účinkoval ve filmech (např. Divoké včely\, Sluneční stát) a vydal několik knih.Jeho koncerty jsou směsí písně\, divadla a podivuhodných historek\, co se (možná) staly.Čas vystoupení: 15:40 h.&nbsp\;PACIFIKLegenda trampské romantiky\, srdce přírody a vůně borovic.Kapela existuje už od roku 1971!Autory hitů jako Nevadská dívka\, Velrybářská výprava nebo Mary Ann.Nositelé Zlaté Porty\, oceňovaní za věrnost žánru a nezaměnitelný styl. Legendární vlna &nbsp\;pohody\, která už přes půl století přináší písně dálav\, romantiky a táborákových nocí.Čas vystoupení: 17:20 h.&nbsp\;ROBERT KŘEŠŤAN &amp\; DRUHÁ TRÁVANejvětší bluegrassová síla střední Evropy – hudební preciznost\, která vás nadzvedne ze židle! Mistři bluegrassu a akustické muziky – nikdo v Česku nehraje s takovou precizností a duší!Robert Křesťan – textař\, překladatel Dylana\, bývalý člen Poutníků.Druhá tráva – držitelé Anděla\, koncertují po celém světě (včetně USA).Spojení virtuózní muziky\, poctivých textů a syrového feelingu.Čas vystoupení: 19:15 h&nbsp\;TAXMENI – 55 LET!Nezastavitelný stroj na vojenský country rock slaví 55 let! &nbsp\;Drsný vojenský country rock s tradicí\, která sahá do roku 1970!Kapela známá díky hitům jako např.&nbsp\; Bitva u&nbsp\;Little Big Hornu\, Dedečkovi hodiny\, Nad námi vlajka hvězdnatá........Držitelé několika Zlatých a Platinových desek\, unikátní vojenský styl a scéna.Vystupovali i s americkými kapelami\, patří k nejdéle hrajícím formacím v žánru.Nejtvrdší kavalerie české country.Čas vystoupení: 21:00 h. &nbsp\;Přijďte si užít den plný hudby\, vůně lesa a lázeňské pohody. Festival pro uši\, duši i srdce!Občerstvení zajištěno\, hudba hraje\, nálada stoupá – chybíte už jen VY!&nbsp\;
LOCATION:Konstantinovy Lázně
END:VEVENT
END:VCALENDAR