BEGIN:VCALENDAR
VERSION:2.0
CALSCALE:GREGORIAN
PRODID:-//MyApp//Calendar 1.0//EN
BEGIN:VEVENT
METHOD:PUBLISH
UID:53099@regionalniportaly.cz
DTSTAMP:20260423T114640Z
DTSTART;VALUE=DATE:20260522
DTEND;VALUE=DATE:20260523
SUMMARY:ÚVĚR
DESCRIPTION:Vtipná a chytrá komedie o tom\, že s penězi je to někdy složité\, ale se vztahy ještě složitější!Účinkují: Martin Zounar a Filip BlažekŘeditel banky Gregorio má vše\, co si může přát – úspěšnou kariéru\, luxusní život a krásnou manželku. Jeho klid však naruší Antonio\, neodbytný žadatel o úvěr\, kterého Gregorio bez váhání odmítne. Jenže Antonio má eso v rukávu: pokud nedostane úvěr\, svede mu ženu! A protože má v této disciplíně neuvěřitelný talent\, Gregoriovi nezbývá než se obávat nejhoršího.Když se manželka dozví o této absurdní sázce\, rozčílí se natolik\, že Gregoria vyhodí z domu. Zoufalý bankéř se tak ocitá v situaci\, kdy jedinou nadějí na záchranu manželství je právě Antonio – jeho největší soupeř a zároveň jediný člověk\, který mu může pomoci získat ženu zpět. A tak začíná bláznivá hra plná nečekaných zvratů\, humorných situací a rafinovaných svůdcovských triků.Kdo nakonec zvítězí? Antonio\, Gregorio\, nebo snad samotná láska? Přijďte se pobavit na brilantní komedii\, která vám dokáže\, že láska a finance mají společného více\, než byste čekali!Nezapomeňte si zajistit vstupenky včas – tahle komedie bude hitem sezóny!
LOCATION:Konstantinovy Lázně
END:VEVENT
END:VCALENDAR