BEGIN:VCALENDAR
VERSION:2.0
CALSCALE:GREGORIAN
PRODID:-//MyApp//Calendar 1.0//EN
BEGIN:VEVENT
METHOD:PUBLISH
UID:51839@regionalniportaly.cz
DTSTAMP:20260424T134033Z
DTSTART;VALUE=DATE:20250412
DTEND;VALUE=DATE:20250413
SUMMARY:APHits - Stříbro
DESCRIPTION:APHits v Cocktail Baru Beseda Stříbro!&nbsp\;Přijď si užít večer plný amerických punkových hitů&nbsp\;od skupin jako: Green Day\, The Offspring\, Blink 182\, Jimmy Eat World\, SUM 41\,&nbsp\;i The Clash v podání APHits! Skvělá hudba\, parádní atmosféra a drinky\, které tě dostanou do varu!Kdy? 12.4.2025\, 21:00Kde? Cocktail Bar Beseda\, StříbroPřiprav se na pořádnou jízdu! Sdílej\, vezmi partu a vidíme se na baru!&nbsp\;
LOCATION:Stříbro
END:VEVENT
END:VCALENDAR