BEGIN:VCALENDAR
VERSION:2.0
CALSCALE:GREGORIAN
PRODID:-//MyApp//Calendar 1.0//EN
BEGIN:VEVENT
METHOD:PUBLISH
UID:51761@regionalniportaly.cz
DTSTAMP:20260424T135813Z
DTSTART;VALUE=DATE:20250705
DTEND;VALUE=DATE:20250706
SUMMARY:REVIVAL FEST 2025
DESCRIPTION:REVIVAL FEST 2025Konstantinovy LázněDámy a pánové\, rockeři a tanečníci\, připravte se na další legendární mejdan! Druhá nejstarší akce v novodobých Konstantinkách\, REVIVAL FEST\, slaví v roce 2025 své dvacáté druhé narozeniny. Z malého festíku se stala jedna z největších a nejnavštěvovanějších akcí v širokém okolí\, a letos to bude opět jízda\, jakou si zasloužíte!Na open-air scéně u kulturního domu vás čeká pecková sestava kapel\, která rozhýbe každou nohu a rozproudí krev v žilách! Mrkněte na line-up a připravte si hlasivky – bude se zpívat\, tančit a pařit až do noci!Sobota 5. 7. 202514:30 h – GOTT Cover BandGOTT Cover Band přináší hity Zlatého slavíka Karla Gotta v podání charismatického Milana Fialy. S hlasem\, který je téměř k nerozeznání od originálu\, vás tahle kapela vezme na nostalgickou jízdu plnou nesmrtelných klasik jako Trezor\, Srdce nehasnou nebo Být stále mlád. Přijďte si zatančit a zazpívat největší hity české hudební legendy!16:10 h – ELÁN KontraBand (SK)ELÁN KontraBand – tohle bude bomba! Profíci\, kteří hráli s hvězdami jako Marika Gombitová\, Vašo Patejdl\, Peter Nagy nebo Jožo Ráž\, přivezou do Konstantinek hity legendární kapely ELÁN. Vysoká hudební kvalita\, autentický zvuk a nestárnoucí songy jako Voda\, čo ma drží nad vodou nebo Láska moja – tohle bude nefalšovaná slovenská rocková párty!17:50 h – WANASTOWI VJECY revivalBílinští WANASTOWI VJECY revival vás vtáhnou do světa českého rocku s hity jako Tak mi to teda nandey\, Sbírka zvadlejch růží nebo Andělé. Frontman Petr Vondráček svým hlasem i vzhledem připomíná Roberta Kodyma\, a díky precizní instrumentaci vás tahle banda zaručeně rozproudí!19:40 h – DIVOKEJ BILL revivalEnergie\, nadšení a poctivý folk-rockový nářez! DIVOKEJ BILL revival z Náchoda přináší všechny zásadní fláky originálu v nejlepším možném provedení. Připravte se na podvečerní jízdu plnou hitů\, které si budete broukat ještě za týden na dovolené!&nbsp\;21:30 h – TURBO revival PlzeňZlatá tečka za celým festivalem! TURBO revival Plzeň přinese nesmrtelné pecky legendární kapely TURBO. Hity jako Hráč\, Chtěl jsem mít nebo Je to jízda rozezní noc a postarají se o závěrečný rockový ohňostroj festivalu. Nenechte si ujít tohle epické finále!Tak co\, jste ready na pořádnou dávku hudební nostalgie\, tanečních kreací a letní festivalové atmosféry? REVIVAL FEST 2025 vás zve na nezapomenutelný den plný hitů\, emocí a nekonečné zábavy! Nezapomeňte si poznamenat datum a přijďte oslavit 22. ročník téhle hudební legendy!Vstupné na místě: 500\,- KčDěti do 10 let: zdarma
LOCATION:Konstantinovy Lázně
END:VEVENT
END:VCALENDAR