BEGIN:VCALENDAR
VERSION:2.0
CALSCALE:GREGORIAN
PRODID:-//MyApp//Calendar 1.0//EN
BEGIN:VEVENT
METHOD:PUBLISH
UID:51244@regionalniportaly.cz
DTSTAMP:20260424T134237Z
DTSTART;VALUE=DATE:20251025
DTEND;VALUE=DATE:20251026
SUMMARY:NOC LEGEND 2025 v Konstantinkách
DESCRIPTION:NOC LEGEND 2025 V KONSTANTINKÁCH – MADE IN BRNODvě legendární kapely\, jedna nezapomenutelná noc!20:00 – SYNKOPY 61Brněnská legenda\, která brázdí pódia od roku 1960 a dodnes baví fanoušky po celé republice! Kapela\, která dokázala spojit klasický bigbít s neotřelou vlastní tvorbou\, a která si vysloužila přezdívku "Moravští Beach Boys" díky svým precizním vícehlasým vokálům.PROČ NESMÍTE CHYBĚT?✅ Hudba\, která přežila dekády – Hity\, které si zpívali naši rodiče\, ale které mají sílu oslovit i dnešní generaci!✅ Neotřelá harmonie – Jejich vícehlasé vokály patří k tomu nejlepšímu\, co československá scéna kdy nabídla.✅ Autentický bigbít – Pokud chcete zažít poctivý československý rock\, tak Synkopy 61 jsou sázkou na jistotu!&nbsp\;Pamatujete si první Čs. beatový festival v Lucerně v roce 1967? SYNKOPY 61 tam byly!Vzpomínáte na koncert The Beach Boys v Brně v roce 1969? SYNKOPY 61 hrály jako předkapela!A teď jsou tady pro vás – připraveni vás dostat zpět do éry poctivého bigbítu!&nbsp\;22:00 – PROGRES 2Hudba s příběhem\, sci-fi v rockové podobě\, koncepční alba\, progresivní experimenty – to vše je PROGRES 2! Kapela\, která od svého vzniku v roce 1968 neustále posouvala hranice československé hudby. Ať už jako The Progress Organization\, Barnodaj nebo Progres 2\, vždy šlo o průkopníky\, kteří přinášeli něco nového.ČÍM JE PROGRES 2 VÝJIMEČNÝ?✅ Legendární konceptuální alba – Dialog s vesmírem (1978)\, Třetí kniha džunglí (1982) a další nezapomenutelné desky\, které se nesmazatelně zapsaly do historie československé hudby.✅ Mistrovská instrumentace – Nečekejte jen obyčejný koncert\, ale propracovanou hudební show plnou atmosféry a výjimečných zvukových efektů.✅ Časová kapsle rockové historie – Progres 2 stále koncertují a dokazují\, že jejich hudba má i po více než 50 letech co říct!Připravte se na neuvěřitelnou hudební cestu\, která vás vezme do jiných dimenzí!Progres 2 vás vezmou na cestu časem i prostorem – připravte se na hudební extázi!Přijďte zažít NOC LEGEND 2025 do Konstantinek!&nbsp\;Dvě kapely\, které psaly dějiny československé hudby\, na jednom pódiu!Bude to velké. Bude to legendární. BUDETE U TOHO?
LOCATION:Konstantinovy Lázně
END:VEVENT
END:VCALENDAR