BEGIN:VCALENDAR
VERSION:2.0
CALSCALE:GREGORIAN
PRODID:-//MyApp//Calendar 1.0//EN
BEGIN:VEVENT
METHOD:PUBLISH
UID:50778@regionalniportaly.cz
DTSTAMP:20260424T124356Z
DTSTART;VALUE=DATE:20250308
DTEND;VALUE=DATE:20250309
SUMMARY:TANKER + TRAVEX hard rock night
DESCRIPTION:HARD ROCKOVÁ NOC V MC PANTEON!Připrav se na večer plný elektrizující energie\, burácejících kytar a pořádného rockového nářezu! MC Panteon se promění v arénu\, kde se potkají syrová síla\, poctivá muzika a nezaměnitelná atmosféra pravého rockového koncertu.&nbsp\;Kdo vystoupí?TANKER (Plzeň) – hutné riffy\, nespoutaná energie a autentická rocková smršť přímo ze západočeské scény! Tahle banda ví\, jak roztřást pódium i publikum.TRAVEX (Cebiv\, Tachov) – divoká jízda plná klasického rockového náboje\, který tě dostane do varu. Připrav se na silné melodie\, dunivé bicí a kytarové sóla\, ze kterých mrazí!&nbsp\;Proč si tenhle večer nesmíš nechat ujít?✔ Poctivý rockový zvuk\, který tě pohltí od prvního tónu.✔ Atmosféra\, kde se každý fanoušek cítí jako doma.✔ Noc plná adrenalinu\, dobré hudby a parádní zábavy!20:00 – Tanker21:45 – TravexTak nahoď džísku\, připrav si hlasivky a přijď si užít HARD ROCKOVOU NOC!A nezapomeň – bez pořádného „air guitar“ sóla tě nepustíme domů!Předprodej 140\,- Kč \,&nbsp\; na místě 170\,- Kč
LOCATION:Konstantinovy Lázně
END:VEVENT
END:VCALENDAR