BEGIN:VCALENDAR
VERSION:2.0
CALSCALE:GREGORIAN
PRODID:-//MyApp//Calendar 1.0//EN
BEGIN:VEVENT
METHOD:PUBLISH
UID:50581@regionalniportaly.cz
DTSTAMP:20260424T135901Z
DTSTART;VALUE=DATE:20250607
DTEND;VALUE=DATE:20250608
SUMMARY:IVAN HLAS trio Na louce
DESCRIPTION:IVAN HLAS TRIOPřijďte se ponořit do atmosféry plné hudby\, radosti a letní pohody\, která vás pohladí po duši. Na naší letní louce se představí jedinečné trio\, které si zamilujete na první poslech.Tyhle pány je opravdu zbytečné představovat\, ale přece jen…Ivan Hlas – legendární český muzikant\, autor nezapomenutelných hitů jako Malagelo nebo Na kolena. Jeho hlas a kytara dokáží rozechvět srdce i těch největších cyniků. Ivan je synonymem upřímné hudby s příběhem\, kterou si člověk zamiluje na první poslech.Norbi Kovács – fenomenální kytarista s maďarskými kořeny\, jehož hra na kytaru je naprosto odzbrojující. Norbi kombinuje precizní techniku s hlubokým citem pro melodii a rytmus. Kromě spolupráce s Ivanem Hlasem jste ho mohli slyšet například&nbsp\; s&nbsp\;kapelami Lokomotiva\, ETC ... či Kybabu......Jaroslav Olin Nejezchleba – všestranný muzikant\, jehož jméno je spojeno s českou hudební scénou už několik desetiletí. Olin je virtuos na violoncello a zároveň charismatický zpěvák\, kterého můžete znát z kapel Blues Session\, ETC... nebo Marsyas. Jeho styl hry je nezaměnitelný a dodává triu jedinečný zvuk.Na co se můžete těšit?Trio Ivan Hlas\, Norbi Kovács a Jaroslav Olin Nejezchleba vás vezme na hudební výlet od hospodského blues přes nostalgické městské balady až po rokenrol a melodie inspirované etnickou hudbou. Uslyšíte výběr toho nejlepšího z tvorby Ivana Hlase\, ale také autorské skladby dalších členů tria. Připravte se na večer plný energie\, emocí a hudby\, která vás pohltí.Kde:Parčík Pro radost&nbsp\; (za hotelem\, Jitřenka) – místo s jedinečnou atmosférou\, kde hudba zní ještě lépe! (částečně kryté hlediště)Nechte se unést letní atmosférou a vychutnejte si večer\, který ve vás zanechá hlubokou stopu. Těšíme se na vás v Konstantinkách!Předprodej lístků: Od 29. 1. 2025 na SMSTICKETPrvních 50 vstupenek za 300\,- Kč / další pak za 350\,- Kč / na místě&nbsp\; 390 Kč
LOCATION:Konstantinovy Lázně
END:VEVENT
END:VCALENDAR