BEGIN:VCALENDAR
VERSION:2.0
CALSCALE:GREGORIAN
PRODID:-//MyApp//Calendar 1.0//EN
BEGIN:VEVENT
METHOD:PUBLISH
UID:50580@regionalniportaly.cz
DTSTAMP:20260424T151910Z
DTSTART;VALUE=DATE:20250621
DTEND;VALUE=DATE:20250622
SUMMARY:RADŮZA sólo Na louce
DESCRIPTION:Radůza – Jedinečný sólový koncert 🎶Přijďte si poslechnout nezaměnitelnou Radůzu\, jejíž umělecká dráha připomíná pohádkový příběh! Už od roku 1993\, kdy ji na ulici objevila Zuzana Navarová\, si získává srdce posluchačů nejen v České republice\, ale i v zahraničí.Radůza je mnohovrstevnatá umělkyně\, která si sama píše texty i skládá hudbu. Její tvorba sahá od intimních balad až po energické písně inspirované folkem\, šansonem i tradičními melodiemi střední a východní Evropy. Její písně často nesou silné příběhy\, které posluchače vtáhnou do emocemi nabitého světa.Za svou kariéru vydala řadu úspěšných alb\, mezi nimi například „Andělové z nebe“\, „V hoře“ nebo „Marathon – příběh běžce“\, a získala několik prestižních ocenění\, včetně Anděla za zpěvačku roku. Její písně\, čerpající z české tradice\, zaujaly publikum nejen doma\, ale i v Polsku\, Francii či Německu.Nyní slaví 30 let na hudební scéně s výběrem toho nejlepšího – dvojalbem Bylo nebylo\, které je průřezem její výjimečné kariéry.Připravte se na večer plný emocí\, výjimečné hudby a Radůzina osobitého projevu. S jejím charakteristickým zpěvem\, který dokáže hřmít i jemně vyprávět\, a doprovodem na několik hudebních nástrojů\, jako je akordeon\, klavír či kytara\, zažijete jedinečný hudební zážitek\, na který budete dlouho vzpomínat.Těšíme se na vás! ❤️Předprodej lístků: Od 29. 1. 2025 na SMSTICKETPrvních 50 vstupenek za 350\,- Kč / další pak za 370\,- Kč / na místě&nbsp\; 390 Kč
LOCATION:Konstantinovy Lázně
END:VEVENT
END:VCALENDAR