BEGIN:VCALENDAR
VERSION:2.0
CALSCALE:GREGORIAN
PRODID:-//MyApp//Calendar 1.0//EN
BEGIN:VEVENT
METHOD:PUBLISH
UID:49815@regionalniportaly.cz
DTSTAMP:20260424T162939Z
DTSTART;VALUE=DATE:20250510
DTEND;VALUE=DATE:20250511
SUMMARY:Karel Kahovec a George & Beatovens
DESCRIPTION:Přijďte si poslechnout legendu bigbeatu ! Spojení KAREL KAHOVEC a GEORGE &amp\; BEATOVENS zaručuje jedinečný zážitek.Skupina GEORGE &amp\; BEATOVENS působí v roce 2025 na naší rockové scéně již neuvěřitelných šedesát dva let.Skupina George &amp\; Beatovens vznikla v roce 1963. Založil ji český hudebník a zpěvák Petr Novák\, který se stal jednou z nejvýraznějších osobností české beatové scény. Skupina byla známá svým originálním stylem kombinujícím rock\, beat a melodické prvky\, které oslovily široké publikum.Jejím dvorním textařem se stal Ivo Plicka\, který s Petrem Novákem vytvořil plodnou autorskou dvojici. Vzniknout tak mohly hity jako Hvězdičko blýskavá\, Klaunova zpověď\, Náhrobní kámen a další.V roce 1993 do skupiny přišel Karel Kahovec\, který po smrti Petra Nováka převzal roli lídra\, jak on sám říká\, George &amp\; Beatovens zdědil\, a to platí dodnes. Kromě notoricky známých Novákových písniček si fanoušci mohou poslechnout také hity Paní v černém nebo Poprava blond holky a také mnohé skladby z období slavných Matadors.V současnosti skupina vystupuje v obsazení: Karel Kahovec (zpěv\, kytara)\, Viktor Levitus (kytara)\, Karel Novák (baskytara) a Petr Eichler (bicí).
LOCATION:Konstantinovy Lázně
END:VEVENT
END:VCALENDAR