BEGIN:VCALENDAR
VERSION:2.0
CALSCALE:GREGORIAN
PRODID:-//MyApp//Calendar 1.0//EN
BEGIN:VEVENT
METHOD:PUBLISH
UID:49692@regionalniportaly.cz
DTSTAMP:20260424T124741Z
DTSTART;VALUE=DATE:20250405
DTEND;VALUE=DATE:20250406
SUMMARY:Lucie revival Praha
DESCRIPTION:Všechno\, co milujete na legendární kapele Lucie\, zazní v plné síle a energii!Přijďte si užít skvělou hudební show s kapelou Lucie Revival Praha!Nejúspěšnější český revival Lucie koncertující napříč republikou i na Slovensku založilo na podzim 2005 pět zkušených muzikantů - zčásti studentů\, zčásti absolventů hudebních konzervatoří.Díky přesvědčivému frontmanství Ondřeje Fencla a jednomu z nejlepších českých bubeníků Tomáši Markovi (10 let v Kollerbandu\, dvě turné jako člen skutečné Lucie!) si může pražský tribute-band dovolit opravdu věrnou interpretaci veškerých hitů jako jsou Amerika\, Oheň\, Černí andělé\, Panic\, Šrouby do hlavy\, Trumpety\, Chci zas v tobě spát\, L'aura\, Dotknu se ohně\, Daniela\, Sen a další.Z předlohy kapela vychází v maximální možné míře\, angažuje i virtuózní houslistku Hanu K. Vyšínskou (Inflagranti)\, aby se přiblížila zvuku Lucie v opeře.V letech 2011-15 seděl za bicí soupravou Lucie revivalu Štěpán Smetáček\, aktuální bubeník Lucie a Wanastowých vjecí\, před ním Pája Táboříková\, dnešní zpěvačka Kollerovy Jasné páky.&nbsp\;Neváhejte\, vezměte přátele a přijďte na pořádnou dávku hudební radosti!Těšíme se na vás!
LOCATION:Konstantinovy Lázně
END:VEVENT
END:VCALENDAR