BEGIN:VCALENDAR
VERSION:2.0
CALSCALE:GREGORIAN
PRODID:-//MyApp//Calendar 1.0//EN
BEGIN:VEVENT
METHOD:PUBLISH
UID:49659@regionalniportaly.cz
DTSTAMP:20260424T151825Z
DTSTART;VALUE=DATE:20250418
DTEND;VALUE=DATE:20250419
SUMMARY:Sto zvířat a Švihadlo
DESCRIPTION:Pořádná nálož SKA a reggae v Konstantinkách!Připravte se na jízdu plnou rytmů a energie! Do Konstantinek přijíždí společná smršť spřátelených kapel Sto zvířat a Švihadlo\, aby vám zpříjemnila start Velikonoc a naladili vás na pořádnou taneční vlnu!20:00 – ŠVIHADLO&nbsp\;Reggae legenda\, která má srdce na Jamajce a nohy v rytmu!ŠVIHADLO\, nejstarší česká reggae kapela\, slaví už 42 let své existence – a oslava to bude pořádná! Od prvních tónů jako Nouzový východ v Mladé Boleslavi až po dnešní nesmrtelné hity\, jako jsou „Na Jamajce půl srdce mám“\, „Po tobě toužím“ nebo „Zelený list“. Tahle parta vám naservíruje mix nostalgie a současnosti – od klasických kousků až po nové pecky\, jako „Stíny“\, „Laj laj laj“\, „Bez oken“ a „Botafogo“.Přijďte si zatančit na vlnách reggae\, které vás zavede až do tropů – i kdyby pršelo\, bude vám horko!22:00 – STO ZVÍŘATKoncert je v rámci turné “TŘICET PĚT”Ska koktejl plný humoru\, pohody a nekonečné energie!Když se řekne české ska\, první\, co vás napadne\, je STO ZVÍŘAT! Už 35 let tahle devítičlenná smečka baví publikum svými chytlavými melodiemi\, tanečními rytmy a texty\, které nezklamou ani ty nejnáročnější posluchače. Inspirace anglickými velikány jako Madness a Specials je jasná\, ale tahle kapela má svůj originální styl\, který si získal srdce fanoušků od Ameriky po Belgii.2400 koncertů mluví za vše – Sto zvířat ví\, jak vás dostat do varu! Připravte se na ska\, reggae\, swing a hlavně nálož dobré nálady\, která vás bude hřát ještě dlouho po posledním tónu.
LOCATION:Konstantinovy Lázně
END:VEVENT
END:VCALENDAR