BEGIN:VCALENDAR
VERSION:2.0
CALSCALE:GREGORIAN
PRODID:-//MyApp//Calendar 1.0//EN
BEGIN:VEVENT
METHOD:PUBLISH
UID:48730@regionalniportaly.cz
DTSTAMP:20260424T161655Z
DTSTART;VALUE=DATE:20250125
DTEND;VALUE=DATE:20250126
SUMMARY:Brutus ve Stříbře
DESCRIPTION:Pravá bigbítová zábava se skupinou Brutus opět u nás ve Stříbře.Otevřeno od 20:00.Start v 21:00.
LOCATION:Stříbro
END:VEVENT
END:VCALENDAR