BEGIN:VCALENDAR
VERSION:2.0
CALSCALE:GREGORIAN
PRODID:-//MyApp//Calendar 1.0//EN
BEGIN:VEVENT
METHOD:PUBLISH
UID:48399@regionalniportaly.cz
DTSTAMP:20260424T162335Z
DTSTART;VALUE=DATE:20250208
DTEND;VALUE=DATE:20250209
SUMMARY:BT'n'J a V3Ska
DESCRIPTION:Kapely BT'n'J a V3Ska osvěží bálovou sezónu v Postřekově. Zažijete energický večer plný skvělé hudby\, která tě zaručeně rozhýbe!
LOCATION:Postřekov
END:VEVENT
END:VCALENDAR