BEGIN:VCALENDAR
VERSION:2.0
CALSCALE:GREGORIAN
PRODID:-//MyApp//Calendar 1.0//EN
BEGIN:VEVENT
METHOD:PUBLISH
UID:48107@regionalniportaly.cz
DTSTAMP:20260424T134453Z
DTSTART;VALUE=DATE:20241221
DTEND;VALUE=DATE:20241222
SUMMARY:DOA rock
DESCRIPTION:Klasická čtyřhodinová zábava se skupinou DOA rock.
LOCATION:Postřekov
END:VEVENT
END:VCALENDAR