BEGIN:VCALENDAR
VERSION:2.0
CALSCALE:GREGORIAN
PRODID:-//MyApp//Calendar 1.0//EN
BEGIN:VEVENT
METHOD:PUBLISH
UID:47901@regionalniportaly.cz
DTSTAMP:20260424T135125Z
DTSTART;VALUE=DATE:20250315
DTEND;VALUE=DATE:20250316
SUMMARY:Michal Pavlíček trio
DESCRIPTION:Hudební skladatel\, kytarista\, zpěvák\, producent a textař. Je výraznou osobností a spolutvůrcem Pražského Výběru. Je zakladatelem a autorem hudby skupin Stromboli\, Big heads. Působí též ve formacích BSP\, Trio a Supergroup. Jeho píseň Země vzdálená s textem Ivana Hlase se stala jedním z hitů devadesátých let. Jako autor a interpret se podílel na CD Zuzany Michnové\, Moniky Načevy\, Báry Basikové\, Kamila Střihavky\, Richarda Müllera a dalších.Je autorem hudby k 23 divadelním představením\, např. Akvabely\, Velice modrý pták\, Višňový sad. Napsal také hudbu k více než 40ti televizním inscenacím a seriálům\, např. Konec velkých prázdnin\, Oběti\, Dobrá čtvrť\, Místo v životě\, Život je ples\, Cesty domů\, k 16 celovečerním filmům např. Proč\, Stínu neutečeš\, Na půdě\, Odcházení \,Přijde letos ježíšek?\, Agáva. Je autorem hudby k baletu Zvláštní radost žít \,Kráska a zvíře nebo Malý princ pro Slovenské národní divadlo v Bratislavě. Jako skladatel se prosadil i na zahraniční scéně. Napsal hudbu k šesti dílům historického seriálu BBC Červený Bedrník\, k dětskému seriálům Outlaw a je jedním z autorů hudby k britskému fantasy seriálu Merlin IV. Zkomponoval hudbu k představení pro Laternu magiku Minotaurus a Hádanky\, k muzikalům Klaun\, Excalibur\, Obraz Doriana Graye\, Dáma s kaméliemi.Byl spoluauorem a hlavním protagonistou hudebních pořadů České televize Na Kloboučku. Vyšlo mu přes 70 nosičů CD a DVD. Získal mnoho ocenění .Je držitelem dvou Andělů\,má na svém kontě několik zlatých a platinových desek .Michal Pavlíček - kytaraMichal Daněk - bicíMartin Ivan - basaMichal Nejtek - klávesyV Konstantinkách se koncert odehraje jako klubový speciál na sále KD.Proč přijít?Protože slyšet Pavlíčka naživo je jako zažít hudební zjevení. Protože klubová atmosféra v&nbsp\;sále KD slibuje intimní a&nbsp\;nezapomenutelný zážitek. A&nbsp\;protože... kdy jindy?&nbsp\;Vstupenky mizí rychleji než Pavlíčkovy prsty po&nbsp\;strunách\, takže si je zajistěte včas. Tohle bude večer\, který se&nbsp\;zapíše do&nbsp\;historie Konstantinek!
LOCATION:Konstantinovy Lázně
END:VEVENT
END:VCALENDAR