BEGIN:VCALENDAR
VERSION:2.0
CALSCALE:GREGORIAN
PRODID:-//MyApp//Calendar 1.0//EN
BEGIN:VEVENT
METHOD:PUBLISH
UID:47900@regionalniportaly.cz
DTSTAMP:20260424T151800Z
DTSTART;VALUE=DATE:20250228
DTEND;VALUE=DATE:20250301
SUMMARY:Pátá dohoda - Jaroslav Dušek
DESCRIPTION:Pokračování knihy moudrosti starých ToltékůZveme vás na skvělé divadelní představení s Jaroslavem Duškem Pátá dohoda ve spolupráci s Klubem Lávka.Buďte skeptičtí\, protože většina toho\, co slyšíte\, není pravda. Naslouchejte\, protože jen tak pochopíte příběh symbolů a vaše komunikace se zlepší. To je ve zkratce poselství Páté dohody od Dona Miguela Ruize\, které volně navazuje na jeho nejznámější dílo\, Čtyři dohody.Není nutné vidět Čtvrtou dohodu\, abyste procítili energii a poselství Dohody páté. Obě jsou originální a dotýkají se nejsoučasnějších problémů lidstva i tisíciletých existenčních otázek.Představení nás zavádí do hlubší roviny našeho sebeuvědomování a navrací nás k našemu vrozenému pravému já. Kouzelné představení plné pravd v neotřelém a humorném pojetí Jaroslava Duška plného humoru i laskavosti.
LOCATION:Konstantinovy Lázně
END:VEVENT
END:VCALENDAR