BEGIN:VCALENDAR
VERSION:2.0
CALSCALE:GREGORIAN
PRODID:-//MyApp//Calendar 1.0//EN
BEGIN:VEVENT
METHOD:PUBLISH
UID:47899@regionalniportaly.cz
DTSTAMP:20260424T163233Z
DTSTART;VALUE=DATE:20250215
DTEND;VALUE=DATE:20250216
SUMMARY:ETC - legenda bigbítu
DESCRIPTION:S nadšeným souhlasem Vladimíra Mišíka pokračují spoluhráči rockové legendy v koncertování v mírně pozměněné sestavě a s Olinem Nejezchlebou za mikrofonem.Více než 3 roky po ukončení koncertní činnosti legendy československého rocku\, Vladimíra Mišíka\, se muzikanti z jeho kapely ETC… rozhodli na popud mnoha fanoušků\, že budou nadále koncertně hrát výběr skladeb z éry ETC.Při únorové hudební lahůdce bezpochyby pookřejí naše zimou zatuhlá srdíčka ......Sestava:Pavel Skála – kytaryOlin Nejezchleba – zpěvPavel Bohatý – zpěvJiří Zelenka – bicí\, zpěvVladimír Pavlíček – housleJakub Červinka / Norbi Kovács – kytaryPavel Novák - basa
LOCATION:Konstantinovy Lázně
END:VEVENT
END:VCALENDAR