BEGIN:VCALENDAR
VERSION:2.0
CALSCALE:GREGORIAN
PRODID:-//MyApp//Calendar 1.0//EN
BEGIN:VEVENT
METHOD:PUBLISH
UID:47898@regionalniportaly.cz
DTSTAMP:20260424T162817Z
DTSTART;VALUE=DATE:20250111
DTEND;VALUE=DATE:20250112
SUMMARY:Košík Band
DESCRIPTION:🎸 Plzeňská rocková banda KOŠÍK BAND: Od roku 2007 na scéně a stále plná energie! 🎶Tahle partička z Plzně to prostě umí rozbalit! Jejich muzika je srdcovkou snad každého\, kdo má rád poctivý rockový nářez. V čele kapely stojí neúnavný Jirka "KOŠÍK" Topinka – a pokud vám snad název kapely připadá nejasný...........🎤 Hudební výlet kolem světa čeká i vás!Těšte se na největší rockové hity z různých koutů planety i na české klasiky\, které vás zaručeně zvednou ze židle. Tahle banda ví\, jak rozproudit pořádnou párty\, takže si připravte taneční boty a chuť si zařvat refrén své oblíbené pecky. Prostě večer plný zábavy pro všechny generace!✨ Pamatujete na rok 2012?Právě tehdy KOŠÍK BAND odpálil&nbsp\; svým prvním koncertem novou éru MC Panteon pod křídly lázeňské obce – a letos vám znovu rozproudí krev v žilách!&nbsp\;Startujeme kulturní sezónu stylově – pořádnou rockovou pařbou s těmi největšími hity všech dob. Tohle bude večer\, na který budete dlouho vzpomínat! Přijďte si užít hudbu\, která spojuje generace a rozdává radost. 🚀Lístky naSMSTICKET&nbsp\;a nebo v případě že něco zbyde i na místě.
LOCATION:Konstantinovy Lázně
END:VEVENT
END:VCALENDAR