BEGIN:VCALENDAR
VERSION:2.0
CALSCALE:GREGORIAN
PRODID:-//MyApp//Calendar 1.0//EN
BEGIN:VEVENT
METHOD:PUBLISH
UID:47897@regionalniportaly.cz
DTSTAMP:20260424T151747Z
DTSTART;VALUE=DATE:20250110
DTEND;VALUE=DATE:20250111
SUMMARY:Míša Leicht & Johnny Stehlík speciál
DESCRIPTION:Dámy a pánové\,10. ledna se připravte na nevšední hudební zážitek v MC Panteonu! Přijďte se podívat\, jak se snoubí americké blues s českým folkem v podání Míši Leichta a Johnnyho Stehlíka – dvou hudebních srdcařů\, kteří se rozhodli\, že je čas trochu zamíchat hudebními žánry.Původně to byl prý jen nevinný nápad z jedné zimní hospodské nudy v roce 2023. No a bum! Publikum nadšené\, kluci šťastní\, tak si řekli\, že to musí zopakovat. A co je nejlepší? Tentokrát to bude ještě větší pecka\, protože zrají jako dobré víno (nebo whisky\, záleží\, co vám víc sedí).Kdo jsou tihle dva?Míša Leicht – Nejen že je duší bluegrassové legendy COP\, která letos slaví neskutečných 46 let na scéně\, ale je taky šéfem\, který si zřejmě řekl\, že když bluegrass\, tak se vším všudy – ať to jde do světa s bluesem!Jan "Johnny" Stehlík – Tenhle chlapík si blues osahal přímo v USA a od roku 2005 to válí s kapelou St. Johnny. Má v sobě víc bluesového feelingu než boty po třídenním festivalu.Proč přijít?Protože tenhle večer bude začátek nové klubové sezóny v Konstantinkách a vy u toho prostě chcete být! Připravte se na bluesově-folkovou lahůdku\, která vás roztančí\, rozesměje a možná i dojme.Tak co\, už si píšete do kalendáře? Budeme se na vás těšit! 😊&nbsp\;
LOCATION:Konstantinovy Lázně
END:VEVENT
END:VCALENDAR