BEGIN:VCALENDAR
VERSION:2.0
CALSCALE:GREGORIAN
PRODID:-//MyApp//Calendar 1.0//EN
BEGIN:VEVENT
METHOD:PUBLISH
UID:46667@regionalniportaly.cz
DTSTAMP:20260424T151425Z
DTSTART;VALUE=DATE:20241225
DTEND;VALUE=DATE:20241226
SUMMARY:Michal ŠINDELÁŘ - 20 let Tu noc hořely\, padaly hvězdy tour
DESCRIPTION:Hudebník Michal Šindelář slaví velké jubileum. Od vydání jeho průlomového alba letos uplyne přesně dvacet let a při té příležitosti se také uskutečnil koncert v Lucerna Music Baru v září 2024\, který se stal jahůdkou na výroční tour jehož součástí a dost možná i poslední zastávkou jsou i božihodové Konstantinky.Koncert s příchutí Katapultu - je určitě na co se těšit !!!Předprodej na SMSTICKET.
LOCATION:Konstantinovy Lázně
END:VEVENT
END:VCALENDAR