BEGIN:VCALENDAR
VERSION:2.0
CALSCALE:GREGORIAN
PRODID:-//MyApp//Calendar 1.0//EN
BEGIN:VEVENT
METHOD:PUBLISH
UID:46666@regionalniportaly.cz
DTSTAMP:20260424T135851Z
DTSTART;VALUE=DATE:20241115
DTEND;VALUE=DATE:20241116
SUMMARY:SKAVARE
DESCRIPTION:Ska kapela z Konstantinových Lázní a okolí . Založena byla v roce 2006\, dříve vystupovala pod názvem Skavare Flascheta.Tahle partička hraje veselé energické ska s prvky rocku\, punku\, a balkánu. V roce 2011 vydala své debutové album a a zanedlouho po té pokřtili své další CD s názvem \,\,Číslo 2 žije\,\,. Dále se kapela podílela jednou skladbou na vydání mezinárodní kompilace\, která vyšla ve Francii. V roce 2021 kapela vydala zatím své poslední album - Siesta. Za dobu svého působení Skavare vystoupili na mnoha českých a některých slovenských festivalech a koncem roku 2013 se uskutečnilo mini-tour po Francii. Skavare se hraním hlavně baví a tak se při jejich vystoupení rozhodně nudit nebudete.Předprodej lístků na SMSTICKET111\,- Kč předprodej ..... 133\,- Kč na místě
LOCATION:Konstantinovy Lázně
END:VEVENT
END:VCALENDAR