BEGIN:VCALENDAR
VERSION:2.0
CALSCALE:GREGORIAN
PRODID:-//MyApp//Calendar 1.0//EN
BEGIN:VEVENT
METHOD:PUBLISH
UID:44698@regionalniportaly.cz
DTSTAMP:20260424T161204Z
DTSTART;VALUE=DATE:20241026
DTEND;VALUE=DATE:20241027
SUMMARY:Kabát revival Plzeň a Rimortis
DESCRIPTION:Rocková noc s kapelami Kabát revival Plzeň a Rimortis.
LOCATION:Postřekov
END:VEVENT
END:VCALENDAR