BEGIN:VCALENDAR
VERSION:2.0
CALSCALE:GREGORIAN
PRODID:-//MyApp//Calendar 1.0//EN
BEGIN:VEVENT
METHOD:PUBLISH
UID:44695@regionalniportaly.cz
DTSTAMP:20260424T113505Z
DTSTART;VALUE=DATE:20240803
DTEND;VALUE=DATE:20240804
SUMMARY:LÁZEŇSKÁ STRUNA 2024 v Konstantinkách
DESCRIPTION:Dvacátý druhý ročník nejstaršího konstantinolázeňského festivalu se uskuteční tradičně první srpnovou sobotu.Program na open air scéně u kulturního domu začne ve 14.00 hodin a představí se v něm opět skvělá hudební sekupení české country folkové scény:14:00&nbsp\;-&nbsp\;15:10&nbsp\;&nbsp\;&nbsp\; LOKÁLKAKrálovéhradecká skupina Lokálka radost a úsměvy rozdává už neuvěřitelných 50 let. Kapela vznikla v roce 1974 a letos nás tak čekají oslavy jejího půlstoletí.&nbsp\; Českému hudbymilovnému publiku je tato partička známa jakožto výrazné parodicko satirické uskupení muzikantů\, kteří se věnují již padesát let&nbsp\; především parodování různých písní z oblasti country music\, popmusic a dalších žánrů. Kapela Lokálka patří mezi oblíbené ozdoby všech countryových\, trampských\, folkových\, jazzových\, rockových i folklórních festivalů.15:40&nbsp\;-&nbsp\;16:50&nbsp\;&nbsp\; SAMSON A JEHO PARTASkupinu Samson a jeho parta založil Jaroslav Samson Lenk po rozpadu skupiny MÁCI v roce 1993. Z Máků kromě něj přestoupil do nové kapely jen jeho bratr Jiří Budvárek Lenk\, který místo kytary přešel na baskytaru. Dalšími členy se stali sourozenci Šneberkovi: zpěvačka a klávesistka Jana a kytarista Jiříček\, zvaný Šprcka\, který se později proslavil ve skupině Semtex. V tomto složení vydala skupina první desku Balónek (1996). Po čase přibyl ještě Radek Gotz na bicí a v tomto již ustáleném složení skupina vydala druhé album Popíček (1998). V roce 2000 vychází deska s názvem MAKOVKY\, obsahující staré písně skupiny Máci nahrané v novém kabátě a se spoustou hostů. V březnu 2002 se příznivci kapely konečně dočkali zbrusu nové desky s názvem Demááczech. Na ní najdou 12 nových písní + l bonus\, písničku Kolíbaná z večerníčku Méďové.17:20&nbsp\;-&nbsp\;18:30&nbsp\;&nbsp\;&nbsp\; MALINA BROTHERSBratři Malinové\, tedy banjista Luboš\, kytarista Pavel a houslista Josef se společně sešli na pódiu v unikátním projektu nazvaném Malina Brothers a přizvali ještě kontrabasistu Pavla Peroutku. K těmto jménům asi není potřeba nic více dodávat.&nbsp\; Tato česká kapela vznikla cca v roce 2010 díky pravidelnému vánočnímu jamování v jedné hospodě v rodném Náchodě. A třeba v roce 2015 skupina natočila své druhé album s předním americkým hráčem na foukací harmoniku Charlie McCoyem\, ten mj. spolupracoval i s Bobem Dylanem\, Johnnym Cashem a Elvisem Presleym. Jak píšeme .....není co dodávat ....................19:15&nbsp\;-&nbsp\;20:30&nbsp\; PETR KOCMAN a MONOGRAMBude se jednat opravdu o speciální a zcela ojedinělé vystoupení Petra Kocmana a špičkové bluegrassové kapely Monogram á la&nbsp\; "největší hity Petra Kocmana" v akustické bluegrassové podobě. Monogram je mimo jiné držitelem ocenění Mezinárodní Bluegrassové Asociace IBMA. S kapelou se Petr zná&nbsp\; již mnoho let\,&nbsp\; a v minulosti je míval na svém koncertě jako hosty. Uslyšíte Petrovo písničky tak\, jak je neznáte\, tedy v akustické úpravě\, ale zavzpomínáme pár skladbami i na společnou lásku legendární kapelu Greenhorns\, ve které Petr strávil krásných 12 let po boku Honzy Vyčítala. Bude to skutečně neobvyklý večer........21:00 - 22:15 BÁRA HRZÁNOVÁ\, MÁRIO BIHÁRY a BACHTALE APSAKdyž se&nbsp\;kvůli koronavirové krizi zavřela divadla\, přestaly se&nbsp\;točit filmy a&nbsp\;pořádat koncerty\, přišla Bára Hrzánová s&nbsp\;nápadem uspořádat benefiční turné po&nbsp\;domovech pro&nbsp\;seniory\, jejichž obyvatelé se&nbsp\;ocitli na&nbsp\;několik měsíců zcela odříznutí od&nbsp\;svých blízkých. A&nbsp\;protože jedním z&nbsp\;Bářiných nejbližších hudebních kolegů je fenomenální romský akordeonista a&nbsp\;klavírista Mário Bihári\, vznikl společný hudební projekt. Postupně se&nbsp\;začali přidávat další muzikanti z&nbsp\;kapely Bachtale Apsa a&nbsp\;odehrálo se&nbsp\;přes&nbsp\;25&nbsp\;benefičních vystoupení po&nbsp\;celé republice.Díky perfektní atmosféře\, pohodě a&nbsp\;skvělému ohlasu publika se&nbsp\;protagonisté rozhodli k&nbsp\;občasné spolupráci i&nbsp\;v&nbsp\;„normálních“ časech. Bára Hrzánová je nejen vynikající herečka\, ale také všestranná zpěvačka\, pro&nbsp\;kterou jsou romské písně srdeční záležitostí. Pro&nbsp\;publikum není tato její poloha zcela známá\, o&nbsp\;to však zajímavější.Kapela Bachtale Apsa patří k&nbsp\;tomu nejlepšímu\, co v&nbsp\;současnosti naše romská hudební scéna nabízí. Bude to luxusní tečka za XXII. ročníkem.Děti do 10 let vstup zdarma.Vstupné na místě: 500\,- Kč
LOCATION:Konstantinovy Lázně
END:VEVENT
END:VCALENDAR