BEGIN:VCALENDAR
VERSION:2.0
CALSCALE:GREGORIAN
PRODID:-//MyApp//Calendar 1.0//EN
BEGIN:VEVENT
METHOD:PUBLISH
UID:44681@regionalniportaly.cz
DTSTAMP:20260424T150833Z
DTSTART;VALUE=DATE:20241212
DTEND;VALUE=DATE:20241213
SUMMARY:BRATŘI EBENOVÉ - Vánoční koncert
DESCRIPTION:Bratři EbenovéDalší skvělý vánoční koncert v Konstantinkách je připraven na adventní čas i v roce 2024. Sál kulturního domu poctí svojí premiérovým koncertem opravdu milí gratulanté.Bratrské trio - Marek\, Kryštof a David jsou na české hudební scéně svým přístupem zcela ojedinělí. Synové významného hudebního skladatele Petra Ebena dostali klasické hudební vzdělání\, zároveň však vstřebávali vlivy moderní folkové\, jazzové a rockové muziky. Svou schopností čerpat ze všech těchto zdrojů a umění používat různé neobvyklé hudební nástroje\, vznikl absolutně netradiční\, nenapodobitelný "ebenovský zvuk". Navíc ve spojení s výjimečnými texty Marka byli a doposud jsou Bratři Ebenové na české hudební scéně zcela jedineční.Bratři Ebenové – kapela tří bratří Ebenových (Marek\, Kryštof\, David) a dalších předních českých hudebníků (Pavel Skála\, Jaromír Honzák a Jiří Zelenka).
LOCATION:Konstantinovy Lázně
END:VEVENT
END:VCALENDAR